BEGIN:VCALENDAR
VERSION:2.0
PRODID:-//ecomaine - ECPv6.15.20//NONSGML v1.0//EN
CALSCALE:GREGORIAN
METHOD:PUBLISH
X-WR-CALNAME:ecomaine
X-ORIGINAL-URL:https://www.ecomaine.org
X-WR-CALDESC:Events for ecomaine
REFRESH-INTERVAL;VALUE=DURATION:PT1H
X-Robots-Tag:noindex
X-PUBLISHED-TTL:PT1H
BEGIN:VTIMEZONE
TZID:America/New_York
BEGIN:DAYLIGHT
TZOFFSETFROM:-0500
TZOFFSETTO:-0400
TZNAME:EDT
DTSTART:20250309T070000
END:DAYLIGHT
BEGIN:STANDARD
TZOFFSETFROM:-0400
TZOFFSETTO:-0500
TZNAME:EST
DTSTART:20251102T060000
END:STANDARD
BEGIN:DAYLIGHT
TZOFFSETFROM:-0500
TZOFFSETTO:-0400
TZNAME:EDT
DTSTART:20260308T070000
END:DAYLIGHT
BEGIN:STANDARD
TZOFFSETFROM:-0400
TZOFFSETTO:-0500
TZNAME:EST
DTSTART:20261101T060000
END:STANDARD
BEGIN:DAYLIGHT
TZOFFSETFROM:-0500
TZOFFSETTO:-0400
TZNAME:EDT
DTSTART:20270314T070000
END:DAYLIGHT
BEGIN:STANDARD
TZOFFSETFROM:-0400
TZOFFSETTO:-0500
TZNAME:EST
DTSTART:20271107T060000
END:STANDARD
END:VTIMEZONE
BEGIN:VEVENT
DTSTART;TZID=America/New_York:20260418T100000
DTEND;TZID=America/New_York:20260418T140000
DTSTAMP:20260424T044422
CREATED:20260310T130251Z
LAST-MODIFIED:20260310T130251Z
UID:3680-1776506400-1776520800@www.ecomaine.org
SUMMARY:Green ME Up
DESCRIPTION:Celebrate Earth Day in the most exciting way – at Green ME Up! A FREE\, hands-on event packed with fun\, learning\, and eco-friendly inspiration. \nDiscover how you can help keep Maine green for generations to come through exciting activities with groups like WormMainea\, ecomaine\, Sappi\, and more! \nRock out to live music\, scale the climbing wall\, explore sustainability stations\, and make a Green ME Up Pledge to protect our planet. With free admission\, free parking\, and something for all ages\, it’s the perfect Earth Day celebration for families\, friends\, and eco-enthusiasts alike! \nLet’s learn\, play\, and protect our planet-together!
URL:https://www.ecomaine.org/event/green-me-up/
LOCATION:Freeport Town Hall\, 30 Main St\, Freeport\, ME\, 04032\, United States
CATEGORIES:Tabling,ecomaine Event,Community Event
ATTACH;FMTTYPE=image/jpeg:https://www.ecomaine.org/wp-content/uploads/2026/03/627641817_1328608039314337_5592904228922034384_n.jpg
END:VEVENT
BEGIN:VEVENT
DTSTART;TZID=America/New_York:20260418T110000
DTEND;TZID=America/New_York:20260418T140000
DTSTAMP:20260424T044422
CREATED:20260310T125209Z
LAST-MODIFIED:20260327T182549Z
UID:3676-1776510000-1776520800@www.ecomaine.org
SUMMARY:Portland Earth Day Celebration 2026
DESCRIPTION:The City of Portland is hosting a free\, family-friendly Earth Day Celebration on Saturday\, April 18 from 11:00 AM – 2:00 PM at Deering Oaks Park by the Bandstand! Come learn about local climate initiatives\, recreational opportunities\, sustainable living tips\, celebrate nature\, and more. \nLook for ecomaine among the lineup! We’ll be there with free recycling resources and our education team ready to chat about sustainable waste management in your community. \n\nEnjoy live music by the local psych rock jam band\, Leaf\nMend your clothes at the Powerful ARRMS table\nDrop in bike repair & education with Portland Gear Hub and Bicycle Coalition of Maine\nMeet your local farmers at the Portland Farmer’s Market\nMake your own seed bombs with Sierra Club Maine\nPlant wildflowers with O’Donals Nursery\nFace painting with Parks\, Rec & Facilities team\nLearn more about composting with Garbage to Garden\nEat lunch at a local food truck (Icelandic Hot Dogs\, Empanada Club\, Ugly Dumpling\, and Fire & Company)\n\nDon’t miss this great chance to connect with neighbors and friends of the City\, learn sustainability tips\, and celebrate nature together in Portland\, Maine. \n  \nPlease email sustainabilityoffice@portlandmaine.gov with any questions.
URL:https://www.ecomaine.org/event/portland-earth-day-celebration-2026/
LOCATION:Deering Oaks Park\, Saint James Street\, Portland\, ME\, 04102\, United States
CATEGORIES:Tabling,ecomaine Event,Community Event
ATTACH;FMTTYPE=image/png:https://www.ecomaine.org/wp-content/uploads/2026/03/Earth-Day-2026.png
ORGANIZER;CN="Portland Sustainability Office":MAILTO:sustainabilityoffice@portlandmaine.gov
END:VEVENT
END:VCALENDAR